BEGIN:VCALENDAR
VERSION:2.0
PRODID:-//STEAM Alliance - ECPv6.15.20//NONSGML v1.0//EN
CALSCALE:GREGORIAN
METHOD:PUBLISH
X-WR-CALNAME:STEAM Alliance
X-ORIGINAL-URL:https://steamalliance.org
X-WR-CALDESC:Events for STEAM Alliance
REFRESH-INTERVAL;VALUE=DURATION:PT1H
X-Robots-Tag:noindex
X-PUBLISHED-TTL:PT1H
BEGIN:VTIMEZONE
TZID:America/Denver
BEGIN:DAYLIGHT
TZOFFSETFROM:-0700
TZOFFSETTO:-0600
TZNAME:MDT
DTSTART:20190310T090000
END:DAYLIGHT
BEGIN:STANDARD
TZOFFSETFROM:-0600
TZOFFSETTO:-0700
TZNAME:MST
DTSTART:20191103T080000
END:STANDARD
BEGIN:DAYLIGHT
TZOFFSETFROM:-0700
TZOFFSETTO:-0600
TZNAME:MDT
DTSTART:20200308T090000
END:DAYLIGHT
BEGIN:STANDARD
TZOFFSETFROM:-0600
TZOFFSETTO:-0700
TZNAME:MST
DTSTART:20201101T080000
END:STANDARD
BEGIN:DAYLIGHT
TZOFFSETFROM:-0700
TZOFFSETTO:-0600
TZNAME:MDT
DTSTART:20210314T090000
END:DAYLIGHT
BEGIN:STANDARD
TZOFFSETFROM:-0600
TZOFFSETTO:-0700
TZNAME:MST
DTSTART:20211107T080000
END:STANDARD
END:VTIMEZONE
BEGIN:VEVENT
DTSTART;TZID=America/Denver:20200807T130000
DTEND;TZID=America/Denver:20200807T170000
DTSTAMP:20260419T130258
CREATED:20200311T210855Z
LAST-MODIFIED:20200311T210855Z
UID:10000127-1596805200-1596819600@steamalliance.org
SUMMARY:Flathead Lake Bio Station Open House
DESCRIPTION:The Flathead Lake Biological Station’s (FLBS) annual Open House provides an opportunity for the interested public to learn more about the ecology of Flathead Lake and its watershed\, as well as FLBS and its research around the globe. The Open House allows FLBS scientists to showcase the breadth of their activities\, as well as show examples of how ecological research at FLBS benefits Flathead Lake and subsequently area visitors and residents. \nActivities this year will include:\n– Tours of Biological Station facilities\n– Boat trips on our 30′ research vessel\, the Jessie B\n– Exhibits on recent Flathead research\, including Flathead Lake ecology\n– Presentations by FLBS research scientists and invited speakers\n-A visit by Monte\, UM mascot \nOpen to all- no admission fee.\nFor more information email or call Tom Bansak at events@flbs.umt.edu or 406-872-4503 or visit our website at http://flbs.umt.edu/ \nFriday\, Aug 7\, 1-5 pm\, Flathead Lake Biological Station
URL:https://steamalliance.org/event/flathead-lake-bio-station-open-house/
LOCATION:Flathead Lake Biological Station\, 32125 Bio Station Ln\, Polson\, 59860\, United States
CATEGORIES:All Ages
ATTACH;FMTTYPE=image/jpeg:https://steamalliance.org/wp-content/uploads/2020/03/OpenHouse2020banner-scaled.jpg
END:VEVENT
BEGIN:VEVENT
DTSTART;VALUE=DATE:20200708
DTEND;VALUE=DATE:20200709
DTSTAMP:20260419T130258
CREATED:20200629T230904Z
LAST-MODIFIED:20200630T011536Z
UID:10000128-1594166400-1594252799@steamalliance.org
SUMMARY:Math Club Day
DESCRIPTION:Every Math Club Day online activity is open to anyone…please be part of the fun! We’ll be posting updates to this page and social media over the next 2 weeks. Sign up to receive updates as more info becomes available!\n\nFollow MATHCOUNTS on social media:\nMATHCOUNTS on Facebook   |   MATHCOUNTS on Twitter   |   MATHCOUNTS on Instagram   |   MATHCOUNTS on YouTube
URL:https://steamalliance.org/event/math-club-day/
LOCATION:MT
CATEGORIES:All Ages
END:VEVENT
BEGIN:VEVENT
DTSTART;TZID=America/Denver:20200519T083000
DTEND;TZID=America/Denver:20200519T143000
DTSTAMP:20260419T130258
CREATED:20200117T031201Z
LAST-MODIFIED:20200325T202523Z
UID:10000104-1589877000-1589898600@steamalliance.org
SUMMARY:CANCELLED - Expanding Your Horizons
DESCRIPTION:Expanding Your Horizons (EYH) is a one day symposium for middle school girls showing them the exciting and diverse experiences science\, technology\, engineering\, art and math (STEAM) careers have to offer. \nVolunteers from the Flathead Valley community organize short\, hands-on workshops to directly engage with the girls at a critical time in their development. EYH is a nationally recognized program and we are proud to bring it to the Flathead Valley! \nThis event is for local 7th and 8th grade girls. \n  \nIf you are an EYH Presenter or School needing to update registration information\, please log in here: http://eyh.steamalliance.org/users/sign_in
URL:https://steamalliance.org/event/expanding-your-horizons/
LOCATION:MT\, United States
END:VEVENT
BEGIN:VEVENT
DTSTART;TZID=America/Denver:20200502T080000
DTEND;TZID=America/Denver:20200503T120000
DTSTAMP:20260419T130258
CREATED:20200222T000533Z
LAST-MODIFIED:20200325T172017Z
UID:10000116-1588406400-1588507200@steamalliance.org
SUMMARY:CANCELLED - NW Regional App Challenge
DESCRIPTION:May 2 – 3\, 2020 \, Flathead Valley Community College \nOpen to girls 4th – 8th grade teams of 2 to 5 girls\, Register by March 27th \nFree Event \nThe project could be a mobile app\, website\, or robotics project\, but the girls must be able to demonstrate it and provide a science fair type display showing their problem\, any supporting research\, their solution\, and other information about the technology they used. For example: flow charts\, prototypes\, code samples\, design samples\, future ideas\, etc. \nThe NW Regional App Challenge is a chance for girls to demonstrate their coding project and meet with other like-minded girls. Girls will get great swag\, have loads of fun\, and have the opportunity to show off the projects they have worked so hard to complete. There’s also a FREE lunch\, great lunch speaker\, and the chance to rub elbows with two real Venture Capitalists (just like on Shark Tank)\, University professors\, and local technology company CEOS. \nThe goals is to engage student creativity and encourage their participation in Science\, Technology\, Engineering and Math (STEM) education fields.
URL:https://steamalliance.org/event/nw-regional-app-challenge/
LOCATION:Flathead Valley Community College\, 777 Grandview Dr\, Kalispell\, 59901
ATTACH;FMTTYPE=image/jpeg:https://steamalliance.org/wp-content/uploads/2020/02/mashup-NW-Regional-App-Challenge-scaled.jpg
ORGANIZER;CN="Code Girls United%2C Jan Shanahan":MAILTO:ExcecutiveDirector.CGU@gmail.com
END:VEVENT
BEGIN:VEVENT
DTSTART;VALUE=DATE:20200422
DTEND;VALUE=DATE:20200426
DTSTAMP:20260419T130258
CREATED:20200309T203951Z
LAST-MODIFIED:20200313T151847Z
UID:10000125-1587513600-1587859199@steamalliance.org
SUMMARY:CANCELLED - VEX Worlds Robotics competition
DESCRIPTION:World championship robotics competition – featuring a team from Glacier High School’s TSA Club.
URL:https://steamalliance.org/event/vex-worlds-robotics-competition/
LOCATION:MT\, United States
CATEGORIES:Grades 9-12
END:VEVENT
BEGIN:VEVENT
DTSTART;VALUE=DATE:20200403
DTEND;VALUE=DATE:20200405
DTSTAMP:20260419T130258
CREATED:20200304T233717Z
LAST-MODIFIED:20200304T233928Z
UID:10000123-1585872000-1586044799@steamalliance.org
SUMMARY:Odyssey of the Mind Regional Competition
DESCRIPTION:Odyssey problems have challenged students to design mechanical dinosaurs\, invent new factory machinery\, build working vehicles\, write a new chapter to Moby Dick\, put a twist on classic artworks\, turn Pandora’s Box into a video game\, and so much more.\nSince 1978\, OotM problems have challenged students to go beyond conventional thinking and incorporate creative problem solving in learning. Creative Problem Solving is a skill that needs to be nurtured and developed. While a conventional education is important\, learning to solve problems creatively and confidently gives them an important edge in their education and career goals. There is creativity inside each of us and OotM teaches how to tap into it so it can be applied to real-world problems. \nOdyssey of the Mind begins at the local level. Schools join and form teams that are coached by an adult. The teams select their long-term problem\, develop a solution entirely on their own\, and practice spontaneous problem solving. Local associations then organize and operate training sessions and tournaments where teams will present their long-term solutions in competition.
URL:https://steamalliance.org/event/odyssey-of-the-mind-regional-competition/
LOCATION:Boise\, ID
CATEGORIES:Grades 6-8,Grades 9-12,Teachers
ATTACH;FMTTYPE=image/png:https://steamalliance.org/wp-content/uploads/2020/03/OotM.png
ORGANIZER;CN="Rick Capezza":MAILTO:https://www.odysseyofthemind.com/local-contacts/
END:VEVENT
BEGIN:VEVENT
DTSTART;TZID=America/Denver:20200331T170000
DTEND;TZID=America/Denver:20200331T200000
DTSTAMP:20260419T130258
CREATED:20200309T202117Z
LAST-MODIFIED:20200325T181349Z
UID:10000124-1585674000-1585684800@steamalliance.org
SUMMARY:CANCELLED - Sacred Waters Brewing Company Pint Night for the STEAM Alliance
DESCRIPTION:Come on out to Sacred Waters Brewing Company at 3250 U.S. Hwy 2 E\, Kalispell (between Rose Crossing and the airport).  Have a pint or two and talk to others interested in promoting STEAM opportunities for Flathead residents.  We will talk about the STEAM Alliance\, and take input regarding how we can help promote and coordinate STEAM  activities in our area.  Some of the proceeds will go toward making improvements in our STEAM ecosystem.
URL:https://steamalliance.org/event/sacred-waters-brewing-company-pint-night-for-the-steam-alliance/
LOCATION:Sacred Waters Brewing Company\, 3250 U.S. Hwy 2 E\, Kalispell\, 59901
CATEGORIES:21+,Teachers
ATTACH;FMTTYPE=image/png:https://steamalliance.org/wp-content/uploads/2020/03/SWBC-tealBlue.png
ORGANIZER;CN="Flathead STEAM Alliance":MAILTO:partners@steamalliance.org
END:VEVENT
BEGIN:VEVENT
DTSTART;VALUE=DATE:20200326
DTEND;VALUE=DATE:20200329
DTSTAMP:20260419T130258
CREATED:20200311T162128Z
LAST-MODIFIED:20200312T160540Z
UID:10000126-1585180800-1585439999@steamalliance.org
SUMMARY:CANCELLED - National Conference on Undergraduate Research
DESCRIPTION:NCUR – the National Conferences on Undergraduate Research – have been the premier national conferences devoted exclusively to undergraduate student research and creativity in all disciplines for 34 years. Montana State University is proud to host NCUR 2020. We invite you to join us in Bozeman\, Montana\, for NCUR 2020.
URL:https://steamalliance.org/event/national-conference-on-undergraduate-research/
LOCATION:MT\, United States
CATEGORIES:All Ages
ATTACH;FMTTYPE=image/jpeg:https://steamalliance.org/wp-content/uploads/2020/03/NCUR-banner-1920x600-revised-5-29-19.jpg
END:VEVENT
BEGIN:VEVENT
DTSTART;TZID=America/Denver:20200323T080000
DTEND;TZID=America/Denver:20200324T150000
DTSTAMP:20260419T130258
CREATED:20200302T170121Z
LAST-MODIFIED:20200302T170121Z
UID:10000121-1584950400-1585062000@steamalliance.org
SUMMARY:Technology Student Association State Leadership Conference
DESCRIPTION:Glacier High School’s Technology Student Association (TSA) will be traveling to Billings to compete at the State Leadership Conference.  Students will be competing in VEX Robotics as well as various other STEAM related events.  For more information visit this page: \nhttp://www.montanatsa.com/
URL:https://steamalliance.org/event/technology-student-association-state-leadership-conference/
LOCATION:Montana Pavilion – Metra Park\, 308 6th Avenue North\, Billings\, 59101
CATEGORIES:Grades 6-8,Grades 9-12,Teachers
ATTACH;FMTTYPE=image/png:https://steamalliance.org/wp-content/uploads/2020/03/MTTSA.png
ORGANIZER;CN="Kirk Woosley":MAILTO:woosleyk@billingsschools.org
END:VEVENT
BEGIN:VEVENT
DTSTART;TZID=America/Denver:20200317T090000
DTEND;TZID=America/Denver:20200317T140000
DTSTAMP:20260419T130258
CREATED:20200302T150200Z
LAST-MODIFIED:20200302T150200Z
UID:10000120-1584435600-1584453600@steamalliance.org
SUMMARY:MCTM Regional Math Contest
DESCRIPTION:The Montana Council of Teachers of Mathematics (MCTM) hosts an annual math contest. The Northwest Regional Math Contest is held at FVCC in March. Students will compete in three individual multiple choice tests and one team test in which up to 5 students can be on each team. Schools (including home-school\, private\, public\, etc.) are welcome to participate in the fun event. MCTM is part of the national organization: National Council of Teachers of Mathematics (NCTM).
URL:https://steamalliance.org/event/mctm-regional-math-contest/
LOCATION:FVCC\, 777 Grandview Dr\, Kalispell\, 59901
CATEGORIES:Grades 6-8,Grades 9-12
ATTACH;FMTTYPE=image/png:https://steamalliance.org/wp-content/uploads/2020/03/MCTM-logo.png
ORGANIZER;CN="Peter Musick":MAILTO:musickp@sd5.k12.mt.us
END:VEVENT
BEGIN:VEVENT
DTSTART;TZID=America/Denver:20200316T110000
DTEND;TZID=America/Denver:20200316T210000
DTSTAMP:20260419T130258
CREATED:20200303T195902Z
LAST-MODIFIED:20200303T195950Z
UID:10000122-1584356400-1584392400@steamalliance.org
SUMMARY:MacKenzie River RoboScout Squad Day
DESCRIPTION:Help RoboScout Squad get to the FIRST LEGO League World Championship and enjoy a delicious meal.  Present the event flyer on phone/device or paper and the team will get 20% of the bill.  We still have almost $5000 to raise.  Please come support the team and spread the word.
URL:https://steamalliance.org/event/mackenzie-river-roboscout-squad-day/
LOCATION:MacKenzie River Pizza North\, 45 Treeline Rd\, Kalispell\, 59901
CATEGORIES:All Ages
ATTACH;FMTTYPE=image/jpeg:https://steamalliance.org/wp-content/uploads/2020/03/FD2AD266-A852-46F1-912F-12B2D56B23AC.jpeg
ORGANIZER;CN="Krista Nunnally":MAILTO:info@roboscoutsquad.com
END:VEVENT
BEGIN:VEVENT
DTSTART;TZID=America/Denver:20200229T100000
DTEND;TZID=America/Denver:20200229T140000
DTSTAMP:20260419T130258
CREATED:20200223T032218Z
LAST-MODIFIED:20200227T034005Z
UID:10000118-1582970400-1582984800@steamalliance.org
SUMMARY:STEAM Alliance at Making Montana
DESCRIPTION:Come meet the STEAM Alliance and many others! \nMaking Montana\, a FREE two-day event designed to inspire the next generation of innovators and highlight 21st century skills\, features makers\, manufacturers\, and technology companies all under one roof. This celebration of invention and creativity is a result of a collaboration between ImagineIF Libraries\, Flathead Valley Community College\, Kalispell Chamber of Commerce\, Job Service Kalispell and Montana West Economic Development.
URL:https://steamalliance.org/event/steam-alliance-at-making-montana/2020-02-29/
LOCATION:MT\, United States
CATEGORIES:All Ages
END:VEVENT
BEGIN:VEVENT
DTSTART;TZID=America/Denver:20200228T083000
DTEND;TZID=America/Denver:20200228T150000
DTSTAMP:20260419T130258
CREATED:20200228T040814Z
LAST-MODIFIED:20200228T040814Z
UID:10000119-1582878600-1582902000@steamalliance.org
SUMMARY:Robots! at Making Montana
DESCRIPTION:6-10 year old robotic team showcasing their work.
URL:https://steamalliance.org/event/robots-at-making-montana/
LOCATION:Making Montana\, Expo Building Northwest Montana Fairgrounds\, Kalispell\, 59901
CATEGORIES:All Ages
ATTACH;FMTTYPE=image/jpeg:https://steamalliance.org/wp-content/uploads/2020/02/AI__Robotics_Press_Release-1-scaled.jpg
END:VEVENT
BEGIN:VEVENT
DTSTART;TZID=America/Denver:20200228T083000
DTEND;TZID=America/Denver:20200228T150000
DTSTAMP:20260419T130258
CREATED:20200223T032218Z
LAST-MODIFIED:20200227T034005Z
UID:10000117-1582878600-1582902000@steamalliance.org
SUMMARY:STEAM Alliance at Making Montana
DESCRIPTION:Come meet the STEAM Alliance and many others! \nMaking Montana\, a FREE two-day event designed to inspire the next generation of innovators and highlight 21st century skills\, features makers\, manufacturers\, and technology companies all under one roof. This celebration of invention and creativity is a result of a collaboration between ImagineIF Libraries\, Flathead Valley Community College\, Kalispell Chamber of Commerce\, Job Service Kalispell and Montana West Economic Development.
URL:https://steamalliance.org/event/steam-alliance-at-making-montana/2020-02-28/
LOCATION:MT\, United States
CATEGORIES:All Ages
END:VEVENT
BEGIN:VEVENT
DTSTART;TZID=America/Denver:20200221T235900
DTEND;TZID=America/Denver:20200221T235900
DTSTAMP:20260419T130258
CREATED:20200119T061257Z
LAST-MODIFIED:20200119T061257Z
UID:10000107-1582329540-1582329540@steamalliance.org
SUMMARY:Registration due for Flathead County Science Fair
DESCRIPTION:Register on the county science fair website.
URL:https://steamalliance.org/event/registration-due-for-flathead-county-science-fair/
LOCATION:MT
CATEGORIES:All Ages,Teachers
END:VEVENT
BEGIN:VEVENT
DTSTART;VALUE=DATE:20200220
DTEND;VALUE=DATE:20200221
DTSTAMP:20260419T130258
CREATED:20200120T031354Z
LAST-MODIFIED:20200120T031354Z
UID:10000113-1582156800-1582243199@steamalliance.org
SUMMARY:Mathcounts competition
DESCRIPTION:Middle school math competition
URL:https://steamalliance.org/event/mathcounts-competition/
LOCATION:FVCC Arts and Technology Building\, Kalispell\, MT\, 59901\, United States
ORGANIZER;CN="Jason Williams":MAILTO:ja-wil@hotmail.com
END:VEVENT
END:VCALENDAR